BEGIN:VCALENDAR
VERSION:2.0
PRODID:-//The Charmandean Centre - ECPv4.9.4//NONSGML v1.0//EN
CALSCALE:GREGORIAN
METHOD:PUBLISH
X-WR-CALNAME:The Charmandean Centre
X-ORIGINAL-URL:https://thecharmandean.co.uk
X-WR-CALDESC:Events for The Charmandean Centre
BEGIN:VTIMEZONE
TZID:"Europe/London"
BEGIN:DAYLIGHT
TZOFFSETFROM:+0000
TZOFFSETTO:+0100
TZNAME:BST
DTSTART:20250330T010000
END:DAYLIGHT
BEGIN:STANDARD
TZOFFSETFROM:+0100
TZOFFSETTO:+0000
TZNAME:GMT
DTSTART:20251026T010000
END:STANDARD
END:VTIMEZONE
BEGIN:VEVENT
DTSTART;TZID="Europe/London":20250503T150000
DTEND;TZID="Europe/London":20250503T220000
DTSTAMP:20260420T102717
CREATED:20250407T145706Z
LAST-MODIFIED:20250415T075903Z
UID:3968-1746284400-1746309600@thecharmandean.co.uk
SUMMARY:Worthing ABC Boxing Night
DESCRIPTION: \n
URL:https://thecharmandean.co.uk/event/worthing-abc-boxing-night/
END:VEVENT
END:VCALENDAR