BEGIN:VCALENDAR
VERSION:2.0
PRODID:-//The Charmandean Centre - ECPv4.9.4//NONSGML v1.0//EN
CALSCALE:GREGORIAN
METHOD:PUBLISH
X-WR-CALNAME:The Charmandean Centre
X-ORIGINAL-URL:https://thecharmandean.co.uk
X-WR-CALDESC:Events for The Charmandean Centre
BEGIN:VTIMEZONE
TZID:"Europe/London"
BEGIN:DAYLIGHT
TZOFFSETFROM:+0000
TZOFFSETTO:+0100
TZNAME:BST
DTSTART:20250330T010000
END:DAYLIGHT
BEGIN:STANDARD
TZOFFSETFROM:+0100
TZOFFSETTO:+0000
TZNAME:GMT
DTSTART:20251026T010000
END:STANDARD
END:VTIMEZONE
BEGIN:VEVENT
DTSTART;TZID="Europe/London":20250306T183000
DTEND;TZID="Europe/London":20250306T223000
DTSTAMP:20260421T121449
CREATED:20241114T132833Z
LAST-MODIFIED:20241114T133455Z
UID:3531-1741285800-1741300200@thecharmandean.co.uk
SUMMARY:An Evening with Robbie Fowler
DESCRIPTION: \n  \n  \n  \n  \n  \n  \n  \nJoin us for an Evening with Liverpool & Premier League icon Robbie Fowler in Worthing! \nNext March 6th 2025\, PLM Events and Park Lane Memorabilia are proud to welcome Robbie Fowler to Sussex. \nDubbed ‘God’ by his beloved Liverpool fans\, Robbie Fowler’s breakthrough into the professional ranks was nothing short of divine. Scoring 183 goals for Liverpool\, Fowler is the Reds’ second top scorer in their Premier League history. Fowler went on to score a fine catalogue of goals for 8 clubs in 4 different countries\, having a uniquely colourful career in some unique locations like Thailand and Australia. \nOn stage\, Robbie’s approach is similar to a stand-up comedian. Spend an evening laughing at Robbie’s brilliant changing room stories\, hear what it really felt like to play at the top of the game & what makes it possible\, and enjoy a live Q&A where we hand the mic to the audience\, allowing you the chance to ask Robbie your question. \nThere are multiple ticket options for this event\, please see below: \nVIP Ticket £60:  \n\nPriority Seating\nMeet & get a professionally taken photograph with Robbie\nLive on-stage interview listening to Robbie’s fantastic stories from an illustrious career\nLive audience-led Q&A\nAuthentic signed memorabilia auction and raffle\, provided by Park Lane Memorabilia\n\nSilver Ticket £35: Once the VIP photos have concluded\, we offer the silver ticket holders the chance to have a photo with Robbie (purchased on the evening).  \n\nTheatre-style seating\nLive on-stage interview listening to Robbie’s fantastic stories from an illustrious career\nLive audience-led Q&A\nAuthentic signed memorabilia auction and raffle\, provided by Park Lane Memorabilia\n\nBuy tickets here \n  \n
URL:https://thecharmandean.co.uk/event/an-evening-with-robbie-fowler/
CATEGORIES:Our Events,Public
END:VEVENT
END:VCALENDAR