BEGIN:VCALENDAR
VERSION:2.0
PRODID:-//The Charmandean Centre - ECPv4.9.4//NONSGML v1.0//EN
CALSCALE:GREGORIAN
METHOD:PUBLISH
X-WR-CALNAME:The Charmandean Centre
X-ORIGINAL-URL:https://thecharmandean.co.uk
X-WR-CALDESC:Events for The Charmandean Centre
BEGIN:VTIMEZONE
TZID:"Europe/London"
BEGIN:DAYLIGHT
TZOFFSETFROM:+0000
TZOFFSETTO:+0100
TZNAME:BST
DTSTART:20250330T010000
END:DAYLIGHT
BEGIN:STANDARD
TZOFFSETFROM:+0100
TZOFFSETTO:+0000
TZNAME:GMT
DTSTART:20251026T010000
END:STANDARD
END:VTIMEZONE
BEGIN:VEVENT
DTSTART;TZID="Europe/London":20250413T160000
DTEND;TZID="Europe/London":20250413T183000
DTSTAMP:20260424T041850
CREATED:20250327T132702Z
LAST-MODIFIED:20250328T150502Z
UID:3942-1744560000-1744569000@thecharmandean.co.uk
SUMMARY:Wrestling 13th April
DESCRIPTION: \nWrestling at The Charmandean Centre 13/04/2025 @ 4:00pm-6:30pm\nThe Charmandean Centre\, Forest Road\, Worthing\, West Sussex BN14 9HS United Kingdom + Google Map \n£20 \nFORMER world wrestling champion Jonathan Gresham is set to become the latest superstar of the ring to appear at the Charmandean Centre. \nGresham\, currently one of the hottest properties on the independent circuit after elite spells with TNA and Ring of Honor\, is the big name on an international grappling spectacular being lined up by Premier Promotions\, the No. 1 matchmakers for British wrestling\, on April 13. \nThe Worthing event will be the only UK appearance of the American multi-world title winner\, who is jetting into Heathrow from Atlanta on the morning of the show for a whirlwind visit because he wants to “come in and do a British-style rounds match” that only Premier Promotions specialise in. \nGresham has been crowned ROH world champion\, pure champion and world tag-team champion and was named Wrestler of the Year in 2020 and 2021\, when he was ranked in Sports Illustrated’s top ten wrestlers. \nAmong the other stars lined up for the Sunday afternoon spectacular are the French flag-bearer Zaeken and Premier Wrestling Federation champion\, Jordon Breaks\, the man now generally recognised as the best technical wrestler in the country. \nTickets\, including reserved seating\, free parking and discounts for advance bookings\, including family tickets\, from www.ticketsource.co.uk/premier-promotions or by telephone 0333 666 3366. \nThe Charmandean’s bar menu will be available. \n  \n  \n  \n
URL:https://thecharmandean.co.uk/event/wrestling-13th-april/
END:VEVENT
END:VCALENDAR