BEGIN:VCALENDAR
VERSION:2.0
PRODID:-//The Charmandean Centre - ECPv4.9.4//NONSGML v1.0//EN
CALSCALE:GREGORIAN
METHOD:PUBLISH
X-WR-CALNAME:The Charmandean Centre
X-ORIGINAL-URL:https://thecharmandean.co.uk
X-WR-CALDESC:Events for The Charmandean Centre
BEGIN:VTIMEZONE
TZID:"Europe/London"
BEGIN:DAYLIGHT
TZOFFSETFROM:+0000
TZOFFSETTO:+0100
TZNAME:BST
DTSTART:20250330T010000
END:DAYLIGHT
BEGIN:STANDARD
TZOFFSETFROM:+0100
TZOFFSETTO:+0000
TZNAME:GMT
DTSTART:20251026T010000
END:STANDARD
END:VTIMEZONE
BEGIN:VEVENT
DTSTART;TZID="Europe/London":20250511T110000
DTEND;TZID="Europe/London":20250511T140000
DTSTAMP:20260426T034315
CREATED:20250415T092958Z
LAST-MODIFIED:20250415T093033Z
UID:3996-1746961200-1746972000@thecharmandean.co.uk
SUMMARY:Vintage Toy\, Train & Sci-Fi Fair
DESCRIPTION: \n
URL:https://thecharmandean.co.uk/event/vintage-toy-train-sci-fi-fair-11th-may/
END:VEVENT
END:VCALENDAR